{
 "currentVersion": 10.91,
 "serviceDescription": "AC_Accuplus2020",
 "name": "AC_Accuplus2020",
 "description": "",
 "extent": {
  "xmin": 6034248,
  "ymin": 2072400,
  "xmax": 6124008,
  "ymax": 2159520,
  "spatialReference": {
   "wkid": 102643,
   "latestWkid": 2227,
   "vcsWkid": 105703,
   "latestVcsWkid": 6360
  }
 },
 "initialExtent": {
  "xmin": 6034248,
  "ymin": 2072400,
  "xmax": 6124008,
  "ymax": 2159520,
  "spatialReference": {
   "wkid": 102643,
   "latestWkid": 2227,
   "vcsWkid": 105703,
   "latestVcsWkid": 6360
  }
 },
 "fullExtent": {
  "xmin": 6034248,
  "ymin": 2072400,
  "xmax": 6124008,
  "ymax": 2159520,
  "spatialReference": {
   "wkid": 102643,
   "latestWkid": 2227,
   "vcsWkid": 105703,
   "latestVcsWkid": 6360
  }
 },
 "heightModelInfo": {
  "heightModel": "gravity_related_height",
  "vertCRS": "NAVD88_height_(ftUS)",
  "heightUnit": "us-foot"
 },
 "hasMultidimensions": false,
 "pixelSizeX": 0.25,
 "pixelSizeY": 0.25,
 "datasetFormat": "AMD",
 "uncompressedSize": 375354777600,
 "blockWidth": 2048,
 "blockHeight": 256,
 "compressionType": "None",
 "bandNames": [
  "Red",
  "Green",
  "Blue"
 ],
 "allowCopy": true,
 "allowAnalysis": true,
 "bandCount": 3,
 "pixelType": "U8",
 "minPixelSize": 0.11401425612427324,
 "maxPixelSize": 467.0023930850232,
 "copyrightText": "",
 "serviceDataType": "esriImageServiceDataTypeRGB",
 "serviceSourceType": "esriImageServiceSourceTypeMosaicDataset",
 "minValues": [
  0,
  0,
  0
 ],
 "maxValues": [
  255,
  255,
  255
 ],
 "meanValues": [
  129.79659871784605,
  121.9925315547643,
  91.96250547783424
 ],
 "stdvValues": [
  50.28733858964857,
  47.0702438984616,
  47.52110362085935
 ],
 "objectIdField": "OBJECTID",
 "fields": [
  {
   "name": "OBJECTID",
   "type": "esriFieldTypeOID",
   "alias": "OBJECTID",
   "domain": null
  },
  {
   "name": "Shape",
   "type": "esriFieldTypeGeometry",
   "alias": "Shape",
   "domain": null
  },
  {
   "name": "Name",
   "type": "esriFieldTypeString",
   "alias": "Name",
   "domain": null,
   "length": 200
  },
  {
   "name": "MinPS",
   "type": "esriFieldTypeDouble",
   "alias": "MinPS",
   "domain": null
  },
  {
   "name": "MaxPS",
   "type": "esriFieldTypeDouble",
   "alias": "MaxPS",
   "domain": null
  },
  {
   "name": "LowPS",
   "type": "esriFieldTypeDouble",
   "alias": "LowPS",
   "domain": null
  },
  {
   "name": "HighPS",
   "type": "esriFieldTypeDouble",
   "alias": "HighPS",
   "domain": null
  },
  {
   "name": "Category",
   "type": "esriFieldTypeInteger",
   "alias": "Category",
   "domain": {
    "type": "codedValue",
    "name": "MosaicCatalogItemCategoryDomain",
    "description": "Catalog item categories.",
    "codedValues": [
     {
      "name": "Unknown",
      "code": 0
     },
     {
      "name": "Primary",
      "code": 1
     },
     {
      "name": "Overview",
      "code": 2
     },
     {
      "name": "Unprocessed Overview",
      "code": 3
     },
     {
      "name": "Partial Overview",
      "code": 4
     },
     {
      "name": "Inactive",
      "code": 5
     },
     {
      "name": "Uploaded",
      "code": 253
     },
     {
      "name": "Incomplete",
      "code": 254
     },
     {
      "name": "Custom",
      "code": 255
     }
    ],
    "mergePolicy": "esriMPTDefaultValue",
    "splitPolicy": "esriSPTDefaultValue"
   }
  },
  {
   "name": "Tag",
   "type": "esriFieldTypeString",
   "alias": "Tag",
   "domain": null,
   "length": 100
  },
  {
   "name": "GroupName",
   "type": "esriFieldTypeString",
   "alias": "GroupName",
   "domain": null,
   "length": 100
  },
  {
   "name": "ProductName",
   "type": "esriFieldTypeString",
   "alias": "ProductName",
   "domain": null,
   "length": 100
  },
  {
   "name": "CenterX",
   "type": "esriFieldTypeDouble",
   "alias": "CenterX",
   "domain": null
  },
  {
   "name": "CenterY",
   "type": "esriFieldTypeDouble",
   "alias": "CenterY",
   "domain": null
  },
  {
   "name": "ZOrder",
   "type": "esriFieldTypeInteger",
   "alias": "ZOrder",
   "domain": null
  },
  {
   "name": "Shape_Length",
   "type": "esriFieldTypeDouble",
   "alias": "Shape_Length",
   "domain": null
  },
  {
   "name": "Shape_Area",
   "type": "esriFieldTypeDouble",
   "alias": "Shape_Area",
   "domain": null
  }
 ],
 "capabilities": "Image,Metadata,Catalog",
 "defaultMosaicMethod": "Northwest",
 "allowedMosaicMethods": "NorthWest,Center,LockRaster,ByAttribute,Nadir,Viewpoint,Seamline,None",
 "sortField": "",
 "sortValue": null,
 "sortAscending": true,
 "mosaicOperator": "First",
 "maxDownloadSizeLimit": 2048,
 "defaultCompressionQuality": 75,
 "defaultResamplingMethod": "Nearest",
 "maxImageHeight": 4100,
 "maxImageWidth": 15000,
 "maxRecordCount": 1000,
 "maxDownloadImageCount": 20,
 "maxMosaicImageCount": 20,
 "singleFusedMapCache": true,
 "tileInfo": {
  "rows": 512,
  "cols": 512,
  "dpi": 96,
  "format": "PNG",
  "compressionQuality": 0,
  "origin": {
   "x": -1.1586020866621366E8,
   "y": 1.1150148230421728E8
  },
  "spatialReference": {
   "wkid": 102643,
   "latestWkid": 2227
  },
  "lods": [
   {
    "level": 0,
    "resolution": 478210.45051906374,
    "scale": 5.508995407970431E8
   },
   {
    "level": 1,
    "resolution": 239105.22525953187,
    "scale": 2.7544977039852154E8
   },
   {
    "level": 2,
    "resolution": 119552.61262976594,
    "scale": 1.3772488519926077E8
   },
   {
    "level": 3,
    "resolution": 59776.30631488297,
    "scale": 6.886244259963039E7
   },
   {
    "level": 4,
    "resolution": 29888.153157441484,
    "scale": 3.443122129981519E7
   },
   {
    "level": 5,
    "resolution": 14944.076578720742,
    "scale": 1.7215610649907596E7
   },
   {
    "level": 6,
    "resolution": 7472.038289360371,
    "scale": 8607805.324953798
   },
   {
    "level": 7,
    "resolution": 3736.0191446801855,
    "scale": 4303902.662476899
   },
   {
    "level": 8,
    "resolution": 1868.0095723400927,
    "scale": 2151951.3312384496
   },
   {
    "level": 9,
    "resolution": 934.0047861700464,
    "scale": 1075975.6656192248
   },
   {
    "level": 10,
    "resolution": 467.0023930850232,
    "scale": 537987.8328096124
   },
   {
    "level": 11,
    "resolution": 233.5011965425116,
    "scale": 268993.9164048062
   },
   {
    "level": 12,
    "resolution": 116.7505982712558,
    "scale": 134496.9582024031
   },
   {
    "level": 13,
    "resolution": 58.3752991356279,
    "scale": 67248.47910120155
   },
   {
    "level": 14,
    "resolution": 29.18764956781395,
    "scale": 33624.239550600774
   },
   {
    "level": 15,
    "resolution": 14.593824783906975,
    "scale": 16812.119775300387
   },
   {
    "level": 16,
    "resolution": 7.296912391953487,
    "scale": 8406.059887650194
   },
   {
    "level": 17,
    "resolution": 3.6484561959767436,
    "scale": 4203.029943825097
   },
   {
    "level": 18,
    "resolution": 1.8242280979883718,
    "scale": 2101.5149719125484
   },
   {
    "level": 19,
    "resolution": 0.9121140489941859,
    "scale": 1050.7574859562742
   },
   {
    "level": 20,
    "resolution": 0.45605702449709296,
    "scale": 525.3787429781371
   },
   {
    "level": 21,
    "resolution": 0.22802851224854648,
    "scale": 262.68937148906855
   },
   {
    "level": 22,
    "resolution": 0.11401425612427324,
    "scale": 131.34468574453427
   },
   {
    "level": 23,
    "resolution": 0.05700712806213662,
    "scale": 65.67234287226714
   }
  ]
 },
 "storageInfo": {
  "storageFormat": "esriMapCacheStorageModeCompactV2",
  "packetSize": 128
 },
 "cacheType": "Map",
 "allowRasterFunction": true,
 "rasterFunctionInfos": [
  {
   "name": "None",
   "description": "",
   "help": ""
  }
 ],
 "rasterTypeInfos": [
  {
   "name": "Raster Dataset",
   "description": "Supports all ArcGIS Raster Datasets",
   "help": ""
  }
 ],
 "mensurationCapabilities": "None",
 "hasHistograms": true,
 "hasColormap": false,
 "hasRasterAttributeTable": false,
 "minScale": 537987.8328096124,
 "maxScale": 131.34468574453427,
 "minLOD": 10,
 "maxLOD": 22,
 "exportTilesAllowed": true,
 "maxExportTilesCount": 100000,
 "supportsStatistics": true,
 "supportsAdvancedQueries": true,
 "editFieldsInfo": null,
 "ownershipBasedAccessControlForRasters": null,
 "allowComputeTiePoints": false,
 "useStandardizedQueries": true,
 "advancedQueryCapabilities": {
  "useStandardizedQueries": true,
  "supportsStatistics": true,
  "supportsOrderBy": true,
  "supportsDistinct": true,
  "supportsPagination": true
 },
 "spatialReference": {
  "wkid": 102643,
  "latestWkid": 2227,
  "vcsWkid": 105703,
  "latestVcsWkid": 6360
 }
}
