View In:
ArcGIS JavaScript
ArcGIS Online Map Viewer
ArcGIS Earth
ArcMap
View Footprint In:
ArcGIS Online Map Viewer
Service Description: AC_Accuplus2020
Name: AC_Accuplus2020
Description:
Single Fused Map Cache: true
Tile Info:
- Height: 512
- Width: 512
- DPI: 96
-
Levels of Detail: 24
-
Level ID: 0
[ Start Tile, End Tile ]
- Resolution: 478210.45051906374
- Scale: 5.508995407970431E8
-
Level ID: 1
[ Start Tile, End Tile ]
- Resolution: 239105.22525953187
- Scale: 2.7544977039852154E8
-
Level ID: 2
[ Start Tile, End Tile ]
- Resolution: 119552.61262976594
- Scale: 1.3772488519926077E8
-
Level ID: 3
[ Start Tile, End Tile ]
- Resolution: 59776.30631488297
- Scale: 6.886244259963039E7
-
Level ID: 4
[ Start Tile, End Tile ]
- Resolution: 29888.153157441484
- Scale: 3.443122129981519E7
-
Level ID: 5
[ Start Tile, End Tile ]
- Resolution: 14944.076578720742
- Scale: 1.7215610649907596E7
-
Level ID: 6
[ Start Tile, End Tile ]
- Resolution: 7472.038289360371
- Scale: 8607805.324953798
-
Level ID: 7
[ Start Tile, End Tile ]
- Resolution: 3736.0191446801855
- Scale: 4303902.662476899
-
Level ID: 8
[ Start Tile, End Tile ]
- Resolution: 1868.0095723400927
- Scale: 2151951.3312384496
-
Level ID: 9
[ Start Tile, End Tile ]
- Resolution: 934.0047861700464
- Scale: 1075975.6656192248
-
Level ID: 10
[ Start Tile, End Tile ]
- Resolution: 467.0023930850232
- Scale: 537987.8328096124
-
Level ID: 11
[ Start Tile, End Tile ]
- Resolution: 233.5011965425116
- Scale: 268993.9164048062
-
Level ID: 12
[ Start Tile, End Tile ]
- Resolution: 116.7505982712558
- Scale: 134496.9582024031
-
Level ID: 13
[ Start Tile, End Tile ]
- Resolution: 58.3752991356279
- Scale: 67248.47910120155
-
Level ID: 14
[ Start Tile, End Tile ]
- Resolution: 29.18764956781395
- Scale: 33624.239550600774
-
Level ID: 15
[ Start Tile, End Tile ]
- Resolution: 14.593824783906975
- Scale: 16812.119775300387
-
Level ID: 16
[ Start Tile, End Tile ]
- Resolution: 7.296912391953487
- Scale: 8406.059887650194
-
Level ID: 17
[ Start Tile, End Tile ]
- Resolution: 3.6484561959767436
- Scale: 4203.029943825097
-
Level ID: 18
[ Start Tile, End Tile ]
- Resolution: 1.8242280979883718
- Scale: 2101.5149719125484
-
Level ID: 19
[ Start Tile, End Tile ]
- Resolution: 0.9121140489941859
- Scale: 1050.7574859562742
-
Level ID: 20
[ Start Tile, End Tile ]
- Resolution: 0.45605702449709296
- Scale: 525.3787429781371
-
Level ID: 21
[ Start Tile, End Tile ]
- Resolution: 0.22802851224854648
- Scale: 262.68937148906855
-
Level ID: 22
[ Start Tile, End Tile ]
- Resolution: 0.11401425612427324
- Scale: 131.34468574453427
-
Level ID: 23
[ Start Tile, End Tile ]
- Resolution: 0.05700712806213662
- Scale: 65.67234287226714
- Format: PNG
- Compression Quality: 0.0
- LERC Error: NaN
- Origin: X: -1.1586020866621366E8
Y: 1.1150148230421728E8
- Spatial Reference: 102643
(2227)
Storage Info:
- Storage Format: esriMapCacheStorageModeCompactV2
- Packet Size: 128
Extent:
XMin: 6034248
YMin: 2072400
XMax: 6124008
YMax: 2159520
Spatial Reference: 102643
(2227)
VCSWkid(105703)
LatestVCSWkid(6360)
Initial Extent:
XMin: 6034248
YMin: 2072400
XMax: 6124008
YMax: 2159520
Spatial Reference: 102643
(2227)
VCSWkid(105703)
LatestVCSWkid(6360)
Full Extent:
XMin: 6034248
YMin: 2072400
XMax: 6124008
YMax: 2159520
Spatial Reference: 102643
(2227)
VCSWkid(105703)
LatestVCSWkid(6360)
Pixel Size X: 0.25
Pixel Size Y: 0.25
Band Count: 3
Pixel Type: U8
RasterFunction Infos: {"rasterFunctionInfos": [{
"name": "None",
"description": "",
"help": ""
}]}
Mensuration Capabilities: None
Has Histograms: true
Has Colormap: false
Has Multi Dimensions : false
Rendering Rule:
Min Scale: 537987.8328096124
Max Scale: 131.34468574453427
Min LOD: 10
Max LOD: 22
Copyright Text:
Service Data Type: esriImageServiceDataTypeRGB
Min Values: 0, 0, 0
Max Values: 255, 255, 255
Mean Values: 129.79659871784605, 121.9925315547643, 91.96250547783424
Standard Deviation Values: 50.28733858964857, 47.0702438984616, 47.52110362085935
Object ID Field: OBJECTID
Fields:
-
OBJECTID
(
type: esriFieldTypeOID, alias: OBJECTID
)
-
Shape
(
type: esriFieldTypeGeometry, alias: Shape
)
-
Name
(
type: esriFieldTypeString, alias: Name, length: 200
)
-
MinPS
(
type: esriFieldTypeDouble, alias: MinPS
)
-
MaxPS
(
type: esriFieldTypeDouble, alias: MaxPS
)
-
LowPS
(
type: esriFieldTypeDouble, alias: LowPS
)
-
HighPS
(
type: esriFieldTypeDouble, alias: HighPS
)
-
Category
(
type: esriFieldTypeInteger, alias: Category
, Coded Values:
[0: Unknown]
, [1: Primary]
, [2: Overview]
, ...6 more...
)
-
Tag
(
type: esriFieldTypeString, alias: Tag, length: 100
)
-
GroupName
(
type: esriFieldTypeString, alias: GroupName, length: 100
)
-
ProductName
(
type: esriFieldTypeString, alias: ProductName, length: 100
)
-
CenterX
(
type: esriFieldTypeDouble, alias: CenterX
)
-
CenterY
(
type: esriFieldTypeDouble, alias: CenterY
)
-
ZOrder
(
type: esriFieldTypeInteger, alias: ZOrder
)
-
Shape_Length
(
type: esriFieldTypeDouble, alias: Shape_Length
)
-
Shape_Area
(
type: esriFieldTypeDouble, alias: Shape_Area
)
Default Mosaic Method: Northwest
Allowed Mosaic Methods: NorthWest,Center,LockRaster,ByAttribute,Nadir,Viewpoint,Seamline,None
SortField:
SortValue: null
Mosaic Operator: First
Default Compression Quality: 75
Default Resampling Method: Nearest
Max Record Count: 1000
Max Image Height: 4100
Max Image Width: 15000
Max Download Image Count: 20
Max Mosaic Image Count: 20
Allow Raster Function: true
Allow Copy: true
Allow Analysis: true
Allow Compute TiePoints: false
Supports Statistics: true
Supports Advanced Queries: true
Use StandardizedQueries: true
Raster Type Infos:
Name: Raster Dataset
Description: Supports all ArcGIS Raster Datasets
Help:
Has Raster Attribute Table: false
Edit Fields Info: null
Ownership Based AccessControl For Rasters: null
Child Resources:
Info
Histograms
Statistics
Key Properties
Legend
Raster Function Infos
Supported Operations:
Export Image
Query
Identify
Compute Histograms
Compute Statistics Histograms
Get Samples
Compute Class Statistics
Query Boundary
Compute Pixel Location
Compute Angles
Validate
Project
EstimateExportTilesSize
ExportTiles